Package: microSTASIS Version: 1.8.0 Command: /Library/Frameworks/R.framework/Resources/bin/R CMD INSTALL microSTASIS StartedAt: 2025-10-13 15:44:51 -0400 (Mon, 13 Oct 2025) EndedAt: 2025-10-13 15:44:58 -0400 (Mon, 13 Oct 2025) EllapsedTime: 6.7 seconds RetCode: 0 Status: OK