Package: microSTASIS Version: 1.8.0 Command: /Library/Frameworks/R.framework/Resources/bin/R CMD build --keep-empty-dirs --no-resave-data microSTASIS StartedAt: 2025-10-13 20:32:42 -0400 (Mon, 13 Oct 2025) EndedAt: 2025-10-13 20:35:26 -0400 (Mon, 13 Oct 2025) EllapsedTime: 163.9 seconds RetCode: 0 Status: OK PackageFile: microSTASIS_1.8.0.tar.gz PackageFileSize: 1.444 MiB