Package: microSTASIS Version: 1.8.0 Command: /Library/Frameworks/R.framework/Resources/bin/R CMD INSTALL microSTASIS StartedAt: 2025-10-02 16:35:26 -0400 (Thu, 02 Oct 2025) EndedAt: 2025-10-02 16:35:30 -0400 (Thu, 02 Oct 2025) EllapsedTime: 4.0 seconds RetCode: 0 Status: OK