Package: microSTASIS Version: 1.8.0 Command: /Library/Frameworks/R.framework/Resources/bin/R CMD build --keep-empty-dirs --no-resave-data microSTASIS StartedAt: 2025-10-03 04:17:46 -0400 (Fri, 03 Oct 2025) EndedAt: 2025-10-03 04:19:44 -0400 (Fri, 03 Oct 2025) EllapsedTime: 118.6 seconds RetCode: 0 Status: OK PackageFile: microSTASIS_1.8.0.tar.gz PackageFileSize: 1.431 MiB