Package: microRNA Version: 1.68.0 Command: /home/biocbuild/bbs-3.22-bioc/R/bin/R CMD INSTALL microRNA StartedAt: 2025-11-11 15:19:36 -0500 (Tue, 11 Nov 2025) EndedAt: 2025-11-11 15:19:46 -0500 (Tue, 11 Nov 2025) EllapsedTime: 10.0 seconds RetCode: 0 Status: OK