Package: microRNA Version: 1.66.0 Command: /Library/Frameworks/R.framework/Resources/bin/R CMD build --keep-empty-dirs --no-resave-data microRNA StartedAt: 2025-10-14 04:21:19 -0400 (Tue, 14 Oct 2025) EndedAt: 2025-10-14 04:21:25 -0400 (Tue, 14 Oct 2025) EllapsedTime: 5.6 seconds RetCode: 0 Status: OK PackageFile: microRNA_1.66.0.tar.gz PackageFileSize: 5.743 MiB