Package: microRNA Version: 1.68.0 Maintainer: "Michael Lawrence" MaintainerEmail: lawremi at gmail.com git_url: https://git.bioconductor.org/packages/microRNA git_branch: RELEASE_3_22 git_last_commit: ff3bb2e git_last_commit_date: 2025-10-29 10:01:25 -0400 (Wed, 29 Oct 2025)