Package: miaViz Version: 1.18.0 Command: /home/biocbuild/bbs-3.22-bioc/R/bin/R CMD INSTALL miaViz StartedAt: 2025-10-31 16:08:06 -0400 (Fri, 31 Oct 2025) EndedAt: 2025-10-31 16:08:50 -0400 (Fri, 31 Oct 2025) EllapsedTime: 44.5 seconds RetCode: 0 Status: OK