Package: miaTime Version: 1.0.0 Command: /home/biocbuild/bbs-3.22-bioc/R/bin/R CMD INSTALL miaTime StartedAt: 2025-11-11 16:02:53 -0500 (Tue, 11 Nov 2025) EndedAt: 2025-11-11 16:03:37 -0500 (Tue, 11 Nov 2025) EllapsedTime: 44.2 seconds RetCode: 0 Status: OK