Package: miaTime Version: 1.0.0 Command: /Library/Frameworks/R.framework/Resources/bin/R CMD INSTALL miaTime StartedAt: 2025-11-10 15:30:38 -0500 (Mon, 10 Nov 2025) EndedAt: 2025-11-10 15:30:56 -0500 (Mon, 10 Nov 2025) EllapsedTime: 17.6 seconds RetCode: 0 Status: OK