Package: miaTime Version: 1.0.0 Command: /Library/Frameworks/R.framework/Resources/bin/R CMD build --keep-empty-dirs --no-resave-data miaTime StartedAt: 2025-11-10 17:00:55 -0500 (Mon, 10 Nov 2025) EndedAt: 2025-11-10 17:01:32 -0500 (Mon, 10 Nov 2025) EllapsedTime: 36.4 seconds RetCode: 0 Status: OK PackageFile: miaTime_1.0.0.tar.gz PackageFileSize: 6.357 MiB