Package: miaTime Version: 1.0.0 Command: rm -rf miaTime.buildbin-libdir && mkdir miaTime.buildbin-libdir && /Users/biocbuild/BBS/utils/build-universal.sh miaTime_1.0.0.tar.gz /Library/Frameworks/R.framework/Resources/bin/R miaTime.buildbin-libdir StartedAt: 2025-11-10 23:26:51 -0500 (Mon, 10 Nov 2025) EndedAt: 2025-11-10 23:27:09 -0500 (Mon, 10 Nov 2025) EllapsedTime: 18.4 seconds RetCode: 0 Status: OK PackageFile: miaTime_1.0.0.tgz PackageFileSize: 6.432 MiB