Package: miaSim Version: 1.16.0 Command: /home/biocbuild/bbs-3.22-bioc/R/bin/R CMD INSTALL miaSim StartedAt: 2025-11-11 15:34:54 -0500 (Tue, 11 Nov 2025) EndedAt: 2025-11-11 15:35:23 -0500 (Tue, 11 Nov 2025) EllapsedTime: 28.3 seconds RetCode: 0 Status: OK