Package: mia Version: 1.18.0 Command: /home/biocbuild/bbs-3.22-bioc/R/bin/R CMD INSTALL mia StartedAt: 2025-11-14 15:59:52 -0500 (Fri, 14 Nov 2025) EndedAt: 2025-11-14 16:01:01 -0500 (Fri, 14 Nov 2025) EllapsedTime: 68.8 seconds RetCode: 0 Status: OK