Package: mia Version: 1.18.0 Command: /home/biocbuild/bbs-3.22-bioc/R/bin/R CMD build --keep-empty-dirs --no-resave-data --md5 mia StartedAt: 2025-11-14 18:43:48 -0500 (Fri, 14 Nov 2025) EndedAt: 2025-11-14 18:45:48 -0500 (Fri, 14 Nov 2025) EllapsedTime: 120.2 seconds RetCode: 0 Status: OK PackageFile: mia_1.18.0.tar.gz PackageFileSize: 2.646 MiB