Package: miRspongeR Version: 2.14.0 Command: /home/biocbuild/bbs-3.22-bioc/R/bin/R CMD INSTALL miRspongeR StartedAt: 2025-11-05 15:56:39 -0500 (Wed, 05 Nov 2025) EndedAt: 2025-11-05 15:57:36 -0500 (Wed, 05 Nov 2025) EllapsedTime: 56.9 seconds RetCode: 0 Status: OK