Package: miRspongeR Version: 2.14.0 Command: /home/biocbuild/bbs-3.22-bioc/R/bin/R CMD build --keep-empty-dirs --no-resave-data --md5 miRspongeR StartedAt: 2025-11-05 18:52:34 -0500 (Wed, 05 Nov 2025) EndedAt: 2025-11-05 18:58:07 -0500 (Wed, 05 Nov 2025) EllapsedTime: 333.3 seconds RetCode: 0 Status: OK PackageFile: miRspongeR_2.14.0.tar.gz PackageFileSize: 673.7 KiB