Package: miRcomp Version: 1.40.0 Command: /home/biocbuild/bbs-3.22-bioc/R/bin/R CMD build --keep-empty-dirs --no-resave-data --md5 miRcomp StartedAt: 2025-11-11 18:49:23 -0500 (Tue, 11 Nov 2025) EndedAt: 2025-11-11 18:49:58 -0500 (Tue, 11 Nov 2025) EllapsedTime: 35.1 seconds RetCode: 0 Status: OK PackageFile: miRcomp_1.40.0.tar.gz PackageFileSize: 4.052 MiB