Package: miRcomp Version: 1.40.0 Command: /Library/Frameworks/R.framework/Resources/bin/R CMD INSTALL miRcomp StartedAt: 2025-11-10 15:06:50 -0500 (Mon, 10 Nov 2025) EndedAt: 2025-11-10 15:06:52 -0500 (Mon, 10 Nov 2025) EllapsedTime: 1.9 seconds RetCode: 0 Status: OK