Package: miRcomp Version: 1.40.0 Command: /Library/Frameworks/R.framework/Resources/bin/R CMD build --keep-empty-dirs --no-resave-data miRcomp StartedAt: 2025-11-10 17:02:51 -0500 (Mon, 10 Nov 2025) EndedAt: 2025-11-10 17:03:06 -0500 (Mon, 10 Nov 2025) EllapsedTime: 15.2 seconds RetCode: 0 Status: OK PackageFile: miRcomp_1.40.0.tar.gz PackageFileSize: 3.058 MiB