Package: miRcomp Version: 1.40.0 Command: rm -rf miRcomp.buildbin-libdir && mkdir miRcomp.buildbin-libdir && /Users/biocbuild/BBS/utils/build-universal.sh miRcomp_1.40.0.tar.gz /Library/Frameworks/R.framework/Resources/bin/R miRcomp.buildbin-libdir StartedAt: 2025-11-10 23:27:14 -0500 (Mon, 10 Nov 2025) EndedAt: 2025-11-10 23:27:17 -0500 (Mon, 10 Nov 2025) EllapsedTime: 3.1 seconds RetCode: 0 Status: OK PackageFile: miRcomp_1.40.0.tgz PackageFileSize: 3.084 MiB