Package: miRSM Version: 2.6.0 Command: /home/biocbuild/bbs-3.22-bioc/R/bin/R CMD INSTALL miRSM StartedAt: 2025-11-06 15:48:44 -0500 (Thu, 06 Nov 2025) EndedAt: 2025-11-06 15:49:57 -0500 (Thu, 06 Nov 2025) EllapsedTime: 72.9 seconds RetCode: 0 Status: OK