Package: miRSM Version: 2.6.0 Command: /home/biocbuild/bbs-3.22-bioc/R/bin/R CMD build --keep-empty-dirs --no-resave-data --md5 miRSM StartedAt: 2025-11-06 18:43:43 -0500 (Thu, 06 Nov 2025) EndedAt: 2025-11-06 18:45:31 -0500 (Thu, 06 Nov 2025) EllapsedTime: 108.1 seconds RetCode: 0 Status: OK PackageFile: miRSM_2.6.0.tar.gz PackageFileSize: 4.884 MiB