Package: miRNAtap Version: 1.44.0 Command: /home/biocbuild/bbs-3.22-bioc/R/bin/R CMD INSTALL miRNAtap StartedAt: 2025-11-14 15:27:40 -0500 (Fri, 14 Nov 2025) EndedAt: 2025-11-14 15:27:54 -0500 (Fri, 14 Nov 2025) EllapsedTime: 14.0 seconds RetCode: 0 Status: OK