Package: miRNApath Version: 1.70.0 Command: /Library/Frameworks/R.framework/Resources/bin/R CMD INSTALL miRNApath StartedAt: 2025-11-10 15:02:49 -0500 (Mon, 10 Nov 2025) EndedAt: 2025-11-10 15:02:58 -0500 (Mon, 10 Nov 2025) EllapsedTime: 9.3 seconds RetCode: 0 Status: OK