Package: miRNApath Version: 1.70.0 Command: rm -rf miRNApath.buildbin-libdir && mkdir miRNApath.buildbin-libdir && /Users/biocbuild/BBS/utils/build-universal.sh miRNApath_1.70.0.tar.gz /Library/Frameworks/R.framework/Resources/bin/R miRNApath.buildbin-libdir StartedAt: 2025-11-10 23:27:17 -0500 (Mon, 10 Nov 2025) EndedAt: 2025-11-10 23:27:19 -0500 (Mon, 10 Nov 2025) EllapsedTime: 2.0 seconds RetCode: 0 Status: OK PackageFile: miRNApath_1.70.0.tgz PackageFileSize: 833.9 KiB