Package: miRLAB Version: 1.40.0 Command: /home/biocbuild/bbs-3.22-bioc/R/bin/R CMD INSTALL miRLAB StartedAt: 2025-11-06 15:38:54 -0500 (Thu, 06 Nov 2025) EndedAt: 2025-11-06 15:39:33 -0500 (Thu, 06 Nov 2025) EllapsedTime: 38.6 seconds RetCode: 0 Status: OK