Package: miRLAB Version: 1.40.0 Command: /home/biocbuild/bbs-3.22-bioc/R/bin/R CMD build --keep-empty-dirs --no-resave-data --md5 miRLAB StartedAt: 2025-11-06 18:43:41 -0500 (Thu, 06 Nov 2025) EndedAt: 2025-11-06 18:44:18 -0500 (Thu, 06 Nov 2025) EllapsedTime: 37.0 seconds RetCode: 0 Status: OK PackageFile: miRLAB_1.40.0.tar.gz PackageFileSize: 193.7 KiB