Package: miRBaseConverter Version: 1.34.0 Command: /home/biocbuild/bbs-3.22-bioc/R/bin/R CMD build --keep-empty-dirs --no-resave-data --md5 miRBaseConverter StartedAt: 2025-11-11 18:49:06 -0500 (Tue, 11 Nov 2025) EndedAt: 2025-11-11 18:49:27 -0500 (Tue, 11 Nov 2025) EllapsedTime: 21.0 seconds RetCode: 0 Status: OK PackageFile: miRBaseConverter_1.34.0.tar.gz PackageFileSize: 1.94 MiB