Package: miRBaseConverter Version: 1.32.0 Command: /home/biocbuild/R/R/bin/R CMD INSTALL miRBaseConverter StartedAt: 2025-10-13 20:13:19 -0000 (Mon, 13 Oct 2025) EndedAt: 2025-10-13 20:13:44 -0000 (Mon, 13 Oct 2025) EllapsedTime: 24.9 seconds RetCode: 0 Status: OK