Package: miRBaseConverter Version: 1.34.0 Command: /Library/Frameworks/R.framework/Resources/bin/R CMD INSTALL miRBaseConverter StartedAt: 2025-11-02 15:01:44 -0500 (Sun, 02 Nov 2025) EndedAt: 2025-11-02 15:01:54 -0500 (Sun, 02 Nov 2025) EllapsedTime: 10.4 seconds RetCode: 0 Status: OK