Package: miRBaseConverter Version: 1.34.0 Command: /Library/Frameworks/R.framework/Resources/bin/R CMD build --keep-empty-dirs --no-resave-data miRBaseConverter StartedAt: 2025-10-31 17:05:54 -0400 (Fri, 31 Oct 2025) EndedAt: 2025-10-31 17:06:05 -0400 (Fri, 31 Oct 2025) EllapsedTime: 11.1 seconds RetCode: 0 Status: OK PackageFile: miRBaseConverter_1.34.0.tar.gz PackageFileSize: 1.939 MiB