Package: miQC Version: 1.18.0 Command: /home/biocbuild/bbs-3.22-bioc/R/bin/R CMD INSTALL miQC StartedAt: 2025-11-14 15:27:05 -0500 (Fri, 14 Nov 2025) EndedAt: 2025-11-14 15:27:33 -0500 (Fri, 14 Nov 2025) EllapsedTime: 28.5 seconds RetCode: 0 Status: OK