Package: methylumi Version: 2.56.0 Command: /home/biocbuild/bbs-3.22-bioc/R/bin/R CMD check --install=check:methylumi.install-out.txt --library=/home/biocbuild/bbs-3.22-bioc/R/site-library --timings methylumi_2.56.0.tar.gz StartedAt: 2025-11-12 01:25:10 -0500 (Wed, 12 Nov 2025) EndedAt: 2025-11-12 01:34:00 -0500 (Wed, 12 Nov 2025) EllapsedTime: 529.5 seconds RetCode: 0 Status: OK CheckDir: methylumi.Rcheck Warnings: 0