Package: methylumi Version: 2.56.0 Command: /home/biocbuild/bbs-3.22-bioc/R/bin/R CMD build --keep-empty-dirs --no-resave-data --md5 methylumi StartedAt: 2025-11-11 18:44:26 -0500 (Tue, 11 Nov 2025) EndedAt: 2025-11-11 18:47:35 -0500 (Tue, 11 Nov 2025) EllapsedTime: 189.2 seconds RetCode: 0 Status: OK PackageFile: methylumi_2.56.0.tar.gz PackageFileSize: 7.347 MiB