Package: methylumi Version: 2.54.0 Command: /home/biocbuild/R/R/bin/R CMD build --keep-empty-dirs --no-resave-data methylumi StartedAt: 2025-09-26 03:49:42 -0000 (Fri, 26 Sep 2025) EndedAt: 2025-09-26 03:54:43 -0000 (Fri, 26 Sep 2025) EllapsedTime: 300.2 seconds RetCode: 0 Status: OK PackageFile: methylumi_2.54.0.tar.gz PackageFileSize: 7.336 MiB