Package: methylumi Version: 2.56.0 Maintainer: Sean Davis MaintainerEmail: seandavi at gmail.com git_url: https://git.bioconductor.org/packages/methylumi git_branch: RELEASE_3_22 git_last_commit: baf2fdd git_last_commit_date: 2025-10-29 10:02:53 -0400 (Wed, 29 Oct 2025)