Package: methylclock Version: 1.16.0 Command: /home/biocbuild/bbs-3.22-bioc/R/bin/R CMD INSTALL methylclock StartedAt: 2025-11-13 15:51:30 -0500 (Thu, 13 Nov 2025) EndedAt: 2025-11-13 15:52:46 -0500 (Thu, 13 Nov 2025) EllapsedTime: 75.8 seconds RetCode: 0 Status: OK