Package: methylclock Version: 1.16.0 Command: /home/biocbuild/bbs-3.22-bioc/R/bin/R CMD check --install=check:methylclock.install-out.txt --library=/home/biocbuild/bbs-3.22-bioc/R/site-library --timings methylclock_1.16.0.tar.gz StartedAt: 2025-11-14 01:25:40 -0500 (Fri, 14 Nov 2025) EndedAt: 2025-11-14 01:43:23 -0500 (Fri, 14 Nov 2025) EllapsedTime: 1063.0 seconds RetCode: 0 Status: OK CheckDir: methylclock.Rcheck Warnings: 0