Package: methylclock Version: 1.16.0 Command: /home/biocbuild/bbs-3.22-bioc/R/bin/R CMD build --keep-empty-dirs --no-resave-data --md5 methylclock StartedAt: 2025-11-11 18:41:50 -0500 (Tue, 11 Nov 2025) EndedAt: 2025-11-11 18:50:40 -0500 (Tue, 11 Nov 2025) EllapsedTime: 530.4 seconds RetCode: 0 Status: OK PackageFile: methylclock_1.16.0.tar.gz PackageFileSize: 1.12 MiB