Package: methylclock Version: 1.14.0 Command: /home/biocbuild/bbs-3.21-bioc/R/bin/R CMD INSTALL methylclock StartedAt: 2025-10-15 15:47:36 -0400 (Wed, 15 Oct 2025) EndedAt: 2025-10-15 15:48:49 -0400 (Wed, 15 Oct 2025) EllapsedTime: 72.8 seconds RetCode: 0 Status: OK