Package: methylclock Version: 1.14.0 Command: /home/biocbuild/bbs-3.21-bioc/R/bin/R CMD build --keep-empty-dirs --no-resave-data methylclock StartedAt: 2025-10-15 18:26:04 -0400 (Wed, 15 Oct 2025) EndedAt: 2025-10-15 18:34:54 -0400 (Wed, 15 Oct 2025) EllapsedTime: 529.4 seconds RetCode: 0 Status: OK PackageFile: methylclock_1.14.0.tar.gz PackageFileSize: 1.118 MiB