Package: methylclock Version: 1.16.0 Command: /Library/Frameworks/R.framework/Resources/bin/R CMD INSTALL methylclock StartedAt: 2025-11-03 15:49:39 -0500 (Mon, 03 Nov 2025) EndedAt: 2025-11-03 15:51:14 -0500 (Mon, 03 Nov 2025) EllapsedTime: 95.4 seconds RetCode: 0 Status: OK