Package: methylclock Version: 1.16.0 Command: /Library/Frameworks/R.framework/Resources/bin/R CMD build --keep-empty-dirs --no-resave-data methylclock StartedAt: 2025-11-03 17:41:37 -0500 (Mon, 03 Nov 2025) EndedAt: 2025-11-03 17:53:45 -0500 (Mon, 03 Nov 2025) EllapsedTime: 727.9 seconds RetCode: 0 Status: OK PackageFile: methylclock_1.16.0.tar.gz PackageFileSize: 963 KiB