Package: methylclock Version: 1.14.0 Command: /home/biocbuild/R/R/bin/R CMD INSTALL methylclock StartedAt: 2025-10-02 21:04:50 -0000 (Thu, 02 Oct 2025) EndedAt: 2025-10-02 21:06:31 -0000 (Thu, 02 Oct 2025) EllapsedTime: 100.9 seconds RetCode: 0 Status: OK