Package: methylclock Version: 1.14.0 Command: /home/biocbuild/R/R/bin/R CMD build --keep-empty-dirs --no-resave-data methylclock StartedAt: 2025-10-03 02:23:02 -0000 (Fri, 03 Oct 2025) EndedAt: 2025-10-03 02:44:12 -0000 (Fri, 03 Oct 2025) EllapsedTime: 1270.4 seconds RetCode: 0 Status: OK PackageFile: methylclock_1.14.0.tar.gz PackageFileSize: 961.6 KiB