Package: methylclock Version: 1.14.0 Command: /Library/Frameworks/R.framework/Resources/bin/R CMD INSTALL methylclock StartedAt: 2025-10-13 17:35:22 -0400 (Mon, 13 Oct 2025) EndedAt: 2025-10-13 17:36:44 -0400 (Mon, 13 Oct 2025) EllapsedTime: 82.4 seconds RetCode: 0 Status: OK