Package: methylclock Version: 1.14.0 Command: /Library/Frameworks/R.framework/Resources/bin/R CMD build --keep-empty-dirs --no-resave-data methylclock StartedAt: 2025-10-14 04:07:08 -0400 (Tue, 14 Oct 2025) EndedAt: 2025-10-14 04:21:51 -0400 (Tue, 14 Oct 2025) EllapsedTime: 882.5 seconds RetCode: 0 Status: OK PackageFile: methylclock_1.14.0.tar.gz PackageFileSize: 963.3 KiB