Package: methylclock Version: 1.14.0 Command: rm -rf methylclock.buildbin-libdir && mkdir methylclock.buildbin-libdir && /Users/biocbuild/BBS/utils/build-universal.sh methylclock_1.14.0.tar.gz /Library/Frameworks/R.framework/Resources/bin/R methylclock.buildbin-libdir StartedAt: 2025-10-15 19:16:02 -0400 (Wed, 15 Oct 2025) EndedAt: 2025-10-15 19:17:31 -0400 (Wed, 15 Oct 2025) EllapsedTime: 89.7 seconds RetCode: 0 Status: OK PackageFile: methylclock_1.14.0.tgz PackageFileSize: 1.023 MiB