Package: methylPipe Version: 1.44.0 Command: /home/biocbuild/bbs-3.22-bioc/R/bin/R CMD check --install=check:methylPipe.install-out.txt --library=/home/biocbuild/bbs-3.22-bioc/R/site-library --timings methylPipe_1.44.0.tar.gz StartedAt: 2025-11-17 01:31:36 -0500 (Mon, 17 Nov 2025) EndedAt: 2025-11-17 01:41:14 -0500 (Mon, 17 Nov 2025) EllapsedTime: 577.5 seconds RetCode: 0 Status: WARNINGS CheckDir: methylPipe.Rcheck Warnings: 2